BEGIN:VCALENDAR
VERSION:2.0
PRODID:-//webs solidarias - ECPv6.3.5//NONSGML v1.0//EN
CALSCALE:GREGORIAN
METHOD:PUBLISH
X-WR-CALNAME:webs solidarias
X-ORIGINAL-URL:https://despensasolidaria.pruebasfrancisco.es
X-WR-CALDESC:Eventos para webs solidarias
REFRESH-INTERVAL;VALUE=DURATION:PT1H
X-Robots-Tag:noindex
X-PUBLISHED-TTL:PT1H
BEGIN:VTIMEZONE
TZID:Europe/Madrid
BEGIN:DAYLIGHT
TZOFFSETFROM:+0100
TZOFFSETTO:+0200
TZNAME:CEST
DTSTART:20240331T010000
END:DAYLIGHT
BEGIN:STANDARD
TZOFFSETFROM:+0200
TZOFFSETTO:+0100
TZNAME:CET
DTSTART:20241027T010000
END:STANDARD
END:VTIMEZONE
BEGIN:VEVENT
DTSTART;TZID=Europe/Madrid:20240630T100000
DTEND;TZID=Europe/Madrid:20240630T170000
DTSTAMP:20260419T172319
CREATED:20240829T182129Z
LAST-MODIFIED:20240829T182129Z
UID:2474-1719741600-1719766800@despensasolidaria.pruebasfrancisco.es
SUMMARY:Reparto despensa
DESCRIPTION:
URL:https://despensasolidaria.pruebasfrancisco.es/event/reparto-despensa/
END:VEVENT
BEGIN:VEVENT
DTSTART;TZID=Europe/Madrid:20240504T080000
DTEND;TZID=Europe/Madrid:20240504T170000
DTSTAMP:20260419T172319
CREATED:20240320T214204Z
LAST-MODIFIED:20240422T115407Z
UID:2424-1714809600-1714842000@despensasolidaria.pruebasfrancisco.es
SUMMARY:Asamblea Despensa
DESCRIPTION:Asamblea que tiene lugar cada dos semanas. En esta asamblea trataremos estos temas: reparto del trabajo para la próxima quincena. Situación financiera de la Despensa. Colaboración con otras organizaciones.
URL:https://despensasolidaria.pruebasfrancisco.es/event/asamblea-despensa/
END:VEVENT
BEGIN:VEVENT
DTSTART;TZID=Europe/Madrid:20240406T100000
DTEND;TZID=Europe/Madrid:20240406T170000
DTSTAMP:20260419T172319
CREATED:20240622T204419Z
LAST-MODIFIED:20240829T181740Z
UID:2426-1712397600-1712422800@despensasolidaria.pruebasfrancisco.es
SUMMARY:Asamblea Despensa
DESCRIPTION:
URL:https://despensasolidaria.pruebasfrancisco.es/event/asamblea-despensa-2/
END:VEVENT
BEGIN:VEVENT
DTSTART;TZID=Europe/Madrid:20240331T100000
DTEND;TZID=Europe/Madrid:20240331T170000
DTSTAMP:20260419T172319
CREATED:20240825T204023Z
LAST-MODIFIED:20240829T181658Z
UID:2422-1711879200-1711904400@despensasolidaria.pruebasfrancisco.es
SUMMARY:Zafarrancho de limpieza
DESCRIPTION:Nos juntamos todos/todas para limpiar el local
URL:https://despensasolidaria.pruebasfrancisco.es/event/zafarrancho-de-limpieza/
END:VEVENT
END:VCALENDAR